BEGIN:VCALENDAR
VERSION:2.0
PRODID:-//Eventin//Event Calendar//EN
CALSCALE:GREGORIAN
METHOD:PUBLISH
BEGIN:VEVENT
UID:5aea427ff73ca7a1f8eda11dc707e866@sipnpaintalong.com
SUMMARY:His &amp\; Hens @Greys-The Factory at Franklin
DESCRIPTION:His & Hens\n\nInvite a friend and join us for the fun!\nCost: $
 37–$42 (Includes all art supplies)\nThe Experience: Come early to dine be
 fore or during the event! Our canvases are pre-drawn\, and your host\, Lisa
  Gardiner\, will walk you through creating your own masterpiece step-by-ste
 p. No experience is needed!\nSeating & Check-in: When purchasing your ticke
 ts\, please let us know if you are part of a group so we can seat you toget
 her. Be sure to check in with me when you arrive. I’m so excited to paint
  with you!\nVenue Policies:\n\n\nMinimums: This location requires a 6-perso
 n minimum to have the event and a $10 minimum purchase for food or drink pe
 r person. \n\n\nOutside Food: No outside food or beverages are allowed.\n\
 n\nCancellation Policy: With at least 48 hours' notice\, you will be issued
  a credit for a future party. Credits are valid for 6 months and can be re-
 booked once. If you are unable to attend\, please notify me ahead of time t
 o receive a paint kit. If we do not have enough people to have the event yo
 u can choose a credit for a future party or a refund. \nJoin the VIP List:
  Text the word PAINT to 615-412-8939 to be the first to know about our upco
 ming events!\n\n \n \n \n 
LOCATION:230 Franklin Rd\, Franklin\, TN 37064
DTSTAMP:20260424T080736Z
DTSTART:20260430T223000Z
DTEND:20260501T003000Z
END:VEVENT
END:VCALENDAR